BEGIN:VCALENDAR
METHOD:REQUEST
VERSION:2.0
PRODID:-//CLUS Cyrill Lehmann//www.werkstattchur.ch//DE
CALSCALE:GREGORIAN
BEGIN:VEVENT
LOCATION:Werkstatt Chur
SUMMARY:Sofa Session
DTSTART:20190829T200000
DTEND:20190829T220000
DESCRIPTION:starring: The Fly as Fuck Syndicate
URL;VALUE=URI:https://werkstattchur.ch/event/sofa-session-24/
DTSTAMP:20260422T084823Z
UID:69e88b572fddf
PRIORITY:5
SEQUENCE:0
STATUS:CONFIRMED
TRANSP:TRANSPARENT
END:VEVENT
END:VCALENDAR
