BEGIN:VCALENDAR
METHOD:REQUEST
VERSION:2.0
PRODID:-//CLUS Cyrill Lehmann//www.werkstattchur.ch//DE
CALSCALE:GREGORIAN
BEGIN:VEVENT
LOCATION:Werkstatt Chur
SUMMARY:Cinzia &#038\; Romana Ganzoni
DTSTART:20261018T200000
DTEND:20261018T220000
DESCRIPTION:Per Tai
URL;VALUE=URI:https://werkstattchur.ch/event/cinzia-romana-ganzoni/
DTSTAMP:20260421T114256Z
UID:69e762c0c5d71
PRIORITY:5
SEQUENCE:0
STATUS:CONFIRMED
TRANSP:TRANSPARENT
END:VEVENT
END:VCALENDAR
