BEGIN:VCALENDAR
METHOD:REQUEST
VERSION:2.0
PRODID:-//CLUS Cyrill Lehmann//www.werkstattchur.ch//DE
CALSCALE:GREGORIAN
BEGIN:VEVENT
LOCATION:Werkstatt Chur
SUMMARY:Slam in der Werkstatt #12 – Reloaded
DTSTART:20200929T200000
DTEND:20200929T220000
DESCRIPTION:Bereit für die vierte Saison!
URL;VALUE=URI:https://werkstattchur.ch/event/slam-in-der-werkstatt-12-reloaded/
DTSTAMP:20260421T081031Z
UID:69e730f767ee1
PRIORITY:5
SEQUENCE:0
STATUS:CONFIRMED
TRANSP:TRANSPARENT
END:VEVENT
END:VCALENDAR
