BEGIN:VCALENDAR
METHOD:REQUEST
VERSION:2.0
PRODID:-//CLUS Cyrill Lehmann//www.werkstattchur.ch//DE
CALSCALE:GREGORIAN
BEGIN:VEVENT
LOCATION:Werkstatt Chur
SUMMARY:Anna Känzig &#038\; Tobey Lucas
DTSTART:20200923T200000
DTEND:20200923T220000
DESCRIPTION:Folk Club Chur
URL;VALUE=URI:https://werkstattchur.ch/event/anna-kaenzig-tobey-lucas/
DTSTAMP:20260421T081914Z
UID:69e7330230310
PRIORITY:5
SEQUENCE:0
STATUS:CONFIRMED
TRANSP:TRANSPARENT
END:VEVENT
END:VCALENDAR
