BEGIN:VCALENDAR
METHOD:REQUEST
VERSION:2.0
PRODID:-//CLUS Cyrill Lehmann//www.werkstattchur.ch//DE
CALSCALE:GREGORIAN
BEGIN:VEVENT
LOCATION:Werkstatt Chur
SUMMARY:Reverend Rusty &#038\; The Case
DTSTART:20200401T200000
DTEND:20200401T220000
DESCRIPTION:Präsentiert vom Folk Club Chur
URL;VALUE=URI:https://werkstattchur.ch/event/reverend-rusty-the-case/
DTSTAMP:20260421T081407Z
UID:69e731cfe37a7
PRIORITY:5
SEQUENCE:0
STATUS:CONFIRMED
TRANSP:TRANSPARENT
END:VEVENT
END:VCALENDAR
